Workbook

Sheet ALL SCORES
B2: 2025 COUGAR CLASSIC
B3: February 20th, 2025 / Arena of Southwell Complex / Columbia, Mo.
B5: CHEER RESULTS | L5: CHEER DUAL RESULTS
D7: RAW | E7: AVERAGE | F7: DEDUCTIONS | H7: TOTAL | I7: FINISH | N7: RAW | O7: AVERAGE | P7: DEDUCTIONS | R7: TOTAL | S7: FINISH
B8: CULVER-STOCKTON | D8: ='CULVER CHEER'!K25 -> 111.3 | E8: =D8/2 -> 55.65 | F8: ='CULVER CHEER'!K27 -> 4.5 | H8: =E8-F8 -> 51.15 | I8: =RANK(H8,H8:H10) -> 3 | L8: CULVER-STOCKTON | N8: ='CHEER DUAL'!K25 -> 128.2 | O8: =N8/2 -> 64.1 | P8: ='CHEER DUAL'!K27 -> 1 | R8: =O8-P8 -> 63.1 | S8: =RANK(R8,R8:R9) -> 1
B9: UNIV. OF SAINT MARY | D9: ='SAINT MARY CHEER'!K25 -> 177.1 | E9: =D9/2 -> 88.55 | F9: ='SAINT MARY CHEER'!K27 -> 0 | H9: =E9-F9 -> 88.55 | I9: =RANK(H9,H8:H9) -> 1 | L9: COLUMBIA COLLEGE | N9: ='CHEER DUAL'!W25 -> 119.2 | O9: =N9/2 -> 59.6 | P9: ='CHEER DUAL'!W27 -> 1 | R9: =O9-P9 -> 58.6 | S9: =RANK(R9,R8:R9) -> 2
B10: COLUMBIA COLLEGE | D10: ='CC CHEER'!K25 -> 116.4 | E10: =D10/2 -> 58.2 | F10: ='CC CHEER'!K27 -> 0.5 | H10: =E10-F10 -> 57.7 | I10: =RANK(H10,H8:H10) -> 2
L11: DANCE DUAL RESULTS
B12: DANCE RESULTS
N13: RAW | O13: AVERAGE | P13: DEDUCTIONS | R13: TOTAL | S13: FINISH
D14: RAW | E14: AVERAGE | F14: DEDUCTIONS | H14: TOTAL | I14: FINISH | L14: GRACELAND | N14: ='DANCE DUAL'!K20 -> 162.6 | O14: =N14/2 -> 81.3 | P14: ='DANCE DUAL'!K22 -> 0.5 | R14: =O14-P14 -> 80.8 | S14: =RANK(R14,R14:R14) -> 1
B15: MISSOURI VALLEY | D15: ='MISSOURI VALLEY DANCE'!K20 -> 136.7 | E15: =D15/2 -> 68.35 | F15: ='MISSOURI VALLEY DANCE'!K22 -> 5 | H15: =E15-F15 -> 63.35 | I15: =RANK(H15,H15:H16) -> 2 | L15: COLUMBIA COLLEGE | N15: ='DANCE DUAL'!W20 -> 158.5 | O15: =N15/2 -> 79.25 | P15: ='DANCE DUAL'!W22 -> 0 | R15: =O15-P15 -> 79.25 | S15: =RANK(R15,R14:R15) -> 2
B16: COLUMBIA COLLEGE | D16: ='CC DANCE'!K20 -> 161 | E16: =D16/2 -> 80.5 | F16: ='CC DANCE'!K22 -> 0 | H16: =E16-F16 -> 80.5 | I16: =RANK(H16,H15:H16) -> 1

Sheet CULVER CHEER
C2: CULVER-STOCKTON CHEER
F4: Judge #1 | H4: Judge #2 | J4: Judge #3
C5: BUILDING SKILLS
C6: Partner Stunts/Group Stunts | F6: 2.5 | G6: 2.1 | H6: 2.5 | I6: 2.1
C7: Pyramids | F7: 4.2 | G7: 2 | H7: 4.2 | I7: 2.1
C8: Basket Tosses | F8: 3.6 | G8: 2 | H8: 3.6 | I8: 2
C9: TOTALS | F9: =F6+G6+F7+G7+F8+G8 -> 16.4 | H9: =H6+I6+H7+I7+H8+I8 -> 16.5 | J9: =J6+K6+J7+K7+J8+K8 -> 0
C10: TUMBLING/JUMPING SKILLS
C11: Standing Tumbling | F11: 2.1 | G11: 2.3 | H11: 2.1 | I11: 2.4
C12: Running Tumbling | F12: 1.3 | G12: 2.9 | H12: 1.3 | I12: 3
C13: Jumps | F13: 4.8 | G13: 2.5 | H13: 4.8 | I13: 2.7
C14: TOTALS | F14: =F11+G11+F12+G12+F13+G13 -> 15.9 | H14: =H11+I11+H12+I12+H13+I13 -> 16.3 | J14: =J11+K11+J12+K12+J13+K13 -> 0
C15: OVERALL ROUTINE
C16: Choreography | F16: 6 | H16: 5.7
C17: Showmanship/General Impression | F17: 6.3 | H17: 6.3
C18: Overall Execution | F18: 4.7 | H18: 4.8
C19: Overall Difficulty | F19: 6.2 | H19: 6.2
C20: TOTALS | F20: =F16+F17+F18+F19 -> 23.2 | H20: =H16+H17+H18+H19 -> 23 | J20: =J16+J17+J18+J19 -> 0
F22: Judge #1 | H22: Judge #2 | J22: Judge #3
E23: TOTALS: | F23: =F9+F14+F20 -> 55.5 | H23: =H9+H14+H20 -> 55.8 | J23: =J9+J14+J20 -> 0
H25: RAW | K25: =F23+H23 -> 111.3
H26: AVERAGE | K26: =K25/2 -> 55.65
H27: DEDUCTION | K27: 4.5
C29: CULVER-STOCKTON CHEER FINAL ROUND SCORE: | K29: =K26-K27 -> 51.15

Sheet SAINT MARY CHEER
C2: UNIV. OF SAINT MARY CHEER
F4: Judge #1 | H4: Judge #2 | J4: Judge #3
C5: BUILDING SKILLS
C6: Partner Stunts/Group Stunts | F6: 4.5 | G6: 4.4 | H6: 4.5 | I6: 4.3
C7: Pyramids | F7: 4.5 | G7: 3.6 | H7: 4.4 | I7: 3.7
C8: Basket Tosses | F8: 4.5 | G8: 3.9 | H8: 4.5 | I8: 4
C9: TOTALS | F9: =F6+G6+F7+G7+F8+G8 -> 25.4 | H9: =H6+I6+H7+I7+H8+I8 -> 25.4 | J9: 0
C10: TUMBLING/JUMPING SKILLS
C11: Standing Tumbling | F11: 5 | G11: 4.6 | H11: 5 | I11: 4.3
C12: Running Tumbling | F12: 5 | G12: 4.7 | H12: 5 | I12: 4.4
C13: Jumps | F13: 5 | G13: 4.7 | H13: 5 | I13: 4.4
C14: TOTALS | F14: =F11+G11+F12+G12+F13+G13 -> 29 | H14: =H11+I11+H12+I12+H13+I13 -> 28.1 | J14: 0
C15: OVERALL ROUTINE
C16: Choreography | F16: 8.4 | H16: 8.1
C17: Showmanship/General Impression | F17: 8.5 | H17: 8.2
C18: Overall Execution | F18: 8.6 | H18: 8.4
C19: Overall Difficulty | F19: 9.5 | H19: 9.5
C20: TOTALS | F20: =F16+F17+F18+F19 -> 35 | H20: =H16+H17+H18+H19 -> 34.2 | J20: 0
F22: Judge #1 | H22: Judge #2 | J22: Judge #3
E23: TOTALS: | F23: =F9+F14+F20 -> 89.4 | H23: =H9+H14+H20 -> 87.7 | J23: 0
H25: RAW | K25: =F23+H23 -> 177.1
H26: AVERAGE | K26: =K25/2 -> 88.55
H27: DEDUCTION | K27: 0
C29: UNIV. OF SAINT MARY CHEER FINAL ROUND SCORE: | K29: =K26-K27 -> 88.55

Sheet CC CHEER
C2: COLUMBIA COLLEGE CHEER
F4: Judge #1 | H4: Judge #2 | J4: Judge #3
C5: BUILDING SKILLS
C6: Partner Stunts/Group Stunts | F6: 2.6 | G6: 2.7 | H6: 2.6 | I6: 2.8
C7: Pyramids | F7: 1 | G7: 2.4 | H7: 3.6 | I7: 2.6
C8: Basket Tosses | F8: 3.6 | G8: 2.4 | H8: 1 | I8: 2.3
C9: TOTALS | F9: =F6+G6+F7+G7+F8+G8 -> 14.7 | H9: =H6+I6+H7+I7+H8+I8 -> 14.9 | J9: =J6+K6+J7+K7+J8+K8 -> 0
C10: TUMBLING/JUMPING SKILLS
C11: Standing Tumbling | F11: 2.4 | G11: 2.9 | H11: 2.4 | I11: 2.9
C12: Running Tumbling | F12: 2 | G12: 3.3 | H12: 2 | I12: 3.4
C13: Jumps | F13: 5 | G13: 2.7 | H13: 5 | I13: 2.9
C14: TOTALS | F14: =F11+G11+F12+G12+F13+G13 -> 18.3 | H14: =H11+I11+H12+I12+H13+I13 -> 18.6 | J14: =J11+K11+J12+K12+J13+K13 -> 0
C15: OVERALL ROUTINE
C16: Choreography | F16: 6.5 | H16: 6.5
C17: Showmanship/General Impression | F17: 7.4 | H17: 7.5
C18: Overall Execution | F18: 5.4 | H18: 5.6
C19: Overall Difficulty | F19: 5.5 | H19: 5.5
C20: TOTALS | F20: =F16+F17+F18+F19 -> 24.8 | H20: =H16+H17+H18+H19 -> 25.1 | J20: =J16+J17+J18+J19 -> 0
F22: Judge #1 | H22: Judge #2 | J22: Judge #3
E23: TOTALS: | F23: =F9+F14+F20 -> 57.8 | H23: =H9+H14+H20 -> 58.6 | J23: =J9+J14+J20 -> 0
H25: RAW | K25: =F23+H23+J23 -> 116.4
H26: AVERAGE | K26: =K25/2 -> 58.2
H27: DEDUCTION | K27: 0.5
C29: COLUMBIA COLLEGE CHEER FINAL ROUND SCORE: | K29: =K26-K27 -> 57.7

Sheet MISSOURI VALLEY DANCE
C2: MISSOURI VALLEY DANCE
F4: Judge #1 | H4: Judge #2 | J4: Judge #3
C5: Jazz | E5: (5 MAX EACH) | F5: 3.4 | G5: 3 | H5: 3.9 | I5: 3.5
C6: Pom | E6: (5 MAX EACH) | F6: 3.2 | G6: 3 | H6: 3.7 | I6: 3.5
C7: Hip Hop | E7: (5 MAX EACH) | F7: 3.6 | G7: 3.2 | H7: 3.8 | I7: 3.6
C8: Team Turn Sequence | E8: (5 MAX EACH) | F8: 2.2 | G8: 3.5 | H8: 2.2 | I8: 3.5
C9: Staging and Transitions | E9: (10 MAX) | F9: 7.2 | H9: 7.4
C10: Uniformity | E10: (10 MAX) | F10: 7.2 | H10: 7.1
C11: Choreography | E11: (10 MAX) | F11: 8 | H11: 8
C12: Overall Degree of Difficulty | E12: (10 MAX) | F12: 5.9 | H12: 6.3
C13: Performance Impression | E13: (10 MAX) | F13: 8 | H13: 8
C14: Team Turn | E14: (5 MAX) | F14: 2 | H14: 2
C15: Team Leap | E15: (5 MAX) | F15: 3.4 | H15: 3.4
F17: Judge #1 | H17: Judge #2 | J17: Judge #3
E18: TOTALS: | F18: =F5+G5+F6+G6+F7+G7+F8+G8+F9+F10+F11+F12+F13+F14+F15 -> 66.8 | H18: =H5+I5+H6+I6+H7+I7+H8+I8+H9+H10+H11+H12+H13+H14+H15 -> 69.9 | J18: 0
H20: RAW | K20: =F18+H18 -> 136.7
H21: AVERAGE | K21: =K20/2 -> 68.35
H22: DEDUCTION | K22: 5
C24: MISSOURI VALLEY DANCE FINAL ROUND SCORE: | K24: =K21-K22 -> 63.35

Sheet CC DANCE
C2: COLUMBIA COLLEGE DANCE
F4: Judge #1 | H4: Judge #2 | J4: Judge #3
C5: Jazz | E5: (5 MAX EACH) | F5: 4 | G5: 4.2 | H5: 4.2 | I5: 4.3
C6: Pom | E6: (5 MAX EACH) | F6: 4 | G6: 4.2 | H6: 4.2 | I6: 4
C7: Hip Hop | E7: (5 MAX EACH) | F7: 4 | G7: 4.1 | H7: 4.1 | I7: 4.1
C8: Team Turn Sequence | E8: (5 MAX EACH) | F8: 3.4 | G8: 4.1 | H8: 3.4 | I8: 4.4
C9: Staging and Transitions | E9: (10 MAX) | F9: 8.2 | H9: 8.2
C10: Uniformity | E10: (10 MAX) | F10: 8 | H10: 7.8
C11: Choreography | E11: (10 MAX) | F11: 9.4 | H11: 8.4
C12: Overall Degree of Difficulty | E12: (10 MAX) | F12: 7.4 | H12: 7.8
C13: Performance Impression | E13: (10 MAX) | F13: 9.4 | H13: 8.7
C14: Team Turn | E14: (5 MAX) | F14: 3.4 | H14: 3.4
C15: Team Leap | E15: (5 MAX) | F15: 3.1 | H15: 3.1
F17: Judge #1 | H17: Judge #2 | J17: Judge #3
E18: TOTALS: | F18: =F5+G5+F6+G6+F7+G7+F8+G8+F9+F10+F11+F12+F13+F14+F15 -> 80.9 | H18: =H5+I5+H6+I6+H7+I7+H8+I8+H9+H10+H11+H12+H13+H14+H15 -> 80.1 | J18: =J5+K5+J6+K6+J7+K7+J8+K8+J9+J10+J11+J12+J13+J14+J15 -> 0
H20: RAW | K20: =F18+H18 -> 161
H21: AVERAGE | K21: =K20/2 -> 80.5
H22: DEDUCTION | K22: 0
C24: COLUMBIA COLLEGE DANCE FINAL ROUND SCORE: | K24: =K21-K22 -> 80.5

Sheet CHEER DUAL
C2: CULVER-STOCKTON CHEER | O2: COLUMBIA COLLEGE CHEER
F4: Judge #1 | H4: Judge #2 | J4: Judge #3 | R4: Judge #1 | T4: Judge #2 | V4: Judge #3
C5: BUILDING SKILLS | O5: BUILDING SKILLS
C6: Partner Stunts/Group Stunts | F6: 2.5 | G6: 2.9 | H6: 2.5 | I6: 2.9 | O6: Partner Stunts/Group Stunts | R6: 2.6 | S6: 2.9 | T6: 2.6 | U6: 3
C7: Pyramids | F7: 4.2 | G7: 2.9 | H7: 4.2 | I7: 2.9 | O7: Pyramids | R7: 1 | S7: 3 | T7: 3.6 | U7: 3
C8: Basket Tosses | F8: 3.6 | G8: 4 | H8: 3.6 | I8: 3.8 | O8: Basket Tosses | R8: 3.6 | S8: 2 | T8: 1 | U8: 2.3
C9: TOTALS | F9: =F6+G6+F7+G7+F8+G8 -> 20.1 | H9: =H6+I6+H7+I7+H8+I8 -> 19.9 | J9: =J6+K6+J7+K7+J8+K8 -> 0 | O9: TOTALS | R9: =R6+S6+R7+S7+R8+S8 -> 15.1 | T9: =T6+U6+T7+U7+T8+U8 -> 15.5 | V9: =V6+W6+V7+W7+V8+W8 -> 0
C10: TUMBLING/JUMPING SKILLS | O10: TUMBLING/JUMPING SKILLS
C11: Standing Tumbling | F11: 2.1 | G11: 3.5 | H11: 2.1 | I11: 3.5 | M11: VS. | O11: Standing Tumbling | R11: 2.4 | S11: 2.9 | T11: 2.4 | U11: 3.2
C12: Running Tumbling | F12: 1.3 | G12: 3.4 | H12: 1.3 | I12: 3.4 | O12: Running Tumbling | R12: 2 | S12: 3.3 | T12: 2 | U12: 3.5
C13: Jumps | F13: 4.8 | G13: 3 | H13: 4.8 | I13: 3 | O13: Jumps | R13: 5 | S13: 3 | T13: 5 | U13: 3
C14: TOTALS | F14: =F11+G11+F12+G12+F13+G13 -> 18.1 | H14: =H11+I11+H12+I12+H13+I13 -> 18.1 | J14: =J11+K11+J12+K12+J13+K13 -> 0 | O14: TOTALS | R14: =R11+S11+R12+S12+R13+S13 -> 18.6 | T14: =T11+U11+T12+U12+T13+U13 -> 19.1 | V14: =V11+W11+V12+W12+V13+W13 -> 0
C15: OVERALL ROUTINE | O15: OVERALL ROUTINE
C16: Choreography | F16: 6 | H16: 5.7 | O16: Choreography | R16: 6.5 | T16: 6.7
C17: Showmanship/General Impression | F17: 7.5 | H17: 7.3 | O17: Showmanship/General Impression | R17: 7.5 | T17: 7.5
C18: Overall Execution | F18: 6.6 | H18: 6.5 | O18: Overall Execution | R18: 5.7 | T18: 6
C19: Overall Difficulty | F19: 6.2 | H19: 6.2 | O19: Overall Difficulty | R19: 5.5 | T19: 5.5
C20: TOTALS | F20: =F16+F17+F18+F19 -> 26.3 | H20: =H16+H17+H18+H19 -> 25.7 | J20: =J16+J17+J18+J19 -> 0 | O20: TOTALS | R20: =R16+R17+R18+R19 -> 25.2 | T20: =T16+T17+T18+T19 -> 25.7 | V20: =V16+V17+V18+V19 -> 0
F22: Judge #1 | H22: Judge #2 | J22: Judge #3 | R22: Judge #1 | T22: Judge #2 | V22: Judge #3
E23: TOTALS: | F23: =F9+F14+F20 -> 64.5 | H23: =H9+H14+H20 -> 63.7 | J23: =J9+J14+J20 -> 0 | Q23: TOTALS: | R23: =R9+R14+R20 -> 58.9 | T23: =T9+T14+T20 -> 60.3 | V23: =V9+V14+V20 -> 0
H25: RAW | K25: =F23+H23 -> 128.2 | T25: RAW | W25: =R23+T23 -> 119.2
H26: AVERAGE | K26: =K25/2 -> 64.1 | T26: AVERAGE | W26: =W25/2 -> 59.6
H27: DEDUCTION | K27: 1 | T27: DEDUCTION | W27: 1
C29: CULVER-STOCKTON CHEER FINAL ROUND SCORE: | K29: =K26-K27 -> 63.1 | O29: COLUMBIA COLLEGE CHEER FINAL ROUND SCORE: | W29: =W26-W27 -> 58.6

Sheet DANCE DUAL
C2: GRACELAND DANCE | O2: COLUMBIA COLLEGE DANCE
F4: Judge #1 | H4: Judge #2 | J4: Judge #3 | R4: Judge #1 | T4: Judge #2 | V4: Judge #3
C5: Jazz | E5: (5 MAX EACH) | F5: 3.9 | G5: 4 | H5: 4.3 | I5: 4.2 | O5: Jazz | Q5: (5 MAX EACH) | R5: 4 | S5: 4 | T5: 4.2 | U5: 4.4
C6: Pom | E6: (5 MAX EACH) | F6: 3.9 | G6: 4 | H6: 4 | I6: 4.3 | O6: Pom | Q6: (5 MAX EACH) | R6: 4 | S6: 4 | T6: 4.2 | U6: 4.2
C7: Hip Hop | E7: (5 MAX EACH) | F7: 3.8 | G7: 4 | H7: 4 | I7: 3.7 | O7: Hip Hop | Q7: (5 MAX EACH) | R7: 4 | S7: 4 | T7: 4.1 | U7: 4.2
C8: Team Turn Sequence | E8: (5 MAX EACH) | F8: 4.4 | G8: 3.8 | H8: 4.4 | I8: 3.7 | O8: Team Turn Sequence | Q8: (5 MAX EACH) | R8: 3.4 | S8: 3.6 | T8: 3.4 | U8: 4
C9: Staging and Transitions | E9: (10 MAX) | F9: 8 | H9: 7.7 | M9: vs. | O9: Staging and Transitions | Q9: (10 MAX) | R9: 8.6 | T9: 8
C10: Uniformity | E10: (10 MAX) | F10: 8.1 | H10: 7.8 | O10: Uniformity | Q10: (10 MAX) | R10: 8.2 | T10: 8
C11: Choreography | E11: (10 MAX) | F11: 8.6 | H11: 7.8 | O11: Choreography | Q11: (10 MAX) | R11: 8.6 | T11: 8.5
C12: Overall Degree of Difficulty | E12: (10 MAX) | F12: 8.2 | H12: 8.3 | O12: Overall Degree of Difficulty | Q12: (10 MAX) | R12: 7.3 | T12: 7.7
C13: Performance Impression | E13: (10 MAX) | F13: 8.5 | H13: 8.2 | O13: Performance Impression | Q13: (10 MAX) | R13: 8 | T13: 8.9
C14: Team Turn | E14: (5 MAX) | F14: 4.4 | H14: 4.4 | O14: Team Turn | Q14: (5 MAX) | R14: 3.4 | T14: 3.2
C15: Team Leap | E15: (5 MAX) | F15: 4.2 | H15: 4 | O15: Team Leap | Q15: (5 MAX) | R15: 3.2 | T15: 3.2
F17: Judge #1 | H17: Judge #2 | J17: Judge #3 | R17: Judge #1 | T17: Judge #2 | V17: Judge #3
E18: TOTALS: | F18: =F5+G5+F6+G6+F7+G7+F8+G8+F9+F10+F11+F12+F13+F14+F15 -> 81.8 | H18: =H5+I5+H6+I6+H7+I7+H8+I8+H9+H10+H11+H12+H13+H14+H15 -> 80.8 | J18: 0 | Q18: TOTALS: | R18: =R5+S5+R6+S6+R7+S7+R8+S8+R9+R10+R11+R12+R13+R14+R15 -> 78.3 | T18: =T5+U5+T6+U6+T7+U7+T8+U8+T9+T10+T11+T12+T13+T14+T15 -> 80.2 | V18: =V5+W5+V6+W6+V7+W7+V8+W8+V9+V10+V11+V12+V13+V14+V15 -> 0
H20: RAW | K20: =F18+H18 -> 162.6 | T20: RAW | W20: =R18+T18 -> 158.5
H21: AVERAGE | K21: =K20/2 -> 81.3 | T21: AVERAGE | W21: =W20/2 -> 79.25
H22: DEDUCTION | K22: 0.5 | T22: DEDUCTION | W22: 0
C24: GRACELAND DANCE FINAL ROUND SCORE: | K24: =K21-K22 -> 80.8 | O24: COLUMBIA COLLEGE DANCE FINAL ROUND SCORE: | W24: =W21-W22 -> 79.25
